BEGIN:VCALENDAR
VERSION:2.0
PRODID:gruene-kleinmachnow.de
METHOD:PUBLISH
BEGIN:VTIMEZONE
TZID:Europe/Berlin
X-LIC-LOCATION:Europe/Berlin
BEGIN:DAYLIGHT
TZOFFSETFROM:+0100
TZOFFSETTO:+0200
TZNAME:CEST
DTSTART:19700329T020000
RRULE:FREQ=YEARLY;INTERVAL=1;BYDAY=-1SU;BYMONTH=3
END:DAYLIGHT
BEGIN:STANDARD
TZOFFSETFROM:+0200
TZOFFSETTO:+0100
TZNAME:CET
DTSTART:19701025T030000
RRULE:FREQ=YEARLY;INTERVAL=1;BYDAY=-1SU;BYMONTH=10
END:STANDARD
END:VTIMEZONE
BEGIN:VEVENT
UID:67a24df6989f8cd72ca3c00ef093c82d@gruene-kleinmachnow.de
URL;VALUE=URI:https://gruene-kleinmachnow.de/termine/wahlkampfteam/
LOCATION:
SUMMARY:Wahlkampfteam
DESCRIPTION;ALTREP="data:text/html,%0A%3Cp%3EDas%20Wahlkampfteam%20trifft
 %20sich%20regelm%C3%A4%C3%9Fig%20zur%20Planung%20der%20anstehenden%20Wahl
 kampagnen.%20Allen%20Mitgliedern%20steht%20offen%2C%20sich%20zu%20beteili
 gen.%20%3C%2Fp%3E%0A":Das Wahlkampfteam trifft sich regelmäßig zur Plan
 ung der anstehenden Wahlkampagnen. Allen Mitgliedern steht offen\, sich z
 u beteiligen.
CLASS:PUBLIC
DTSTART;TZID=Europe/Berlin:20240424T183000
DTEND;TZID=Europe/Berlin:20240424T200000
DTSTAMP:20260421T091848
END:VEVENT
END:VCALENDAR