BEGIN:VCALENDAR
VERSION:2.0
PRODID:gruene-kleinmachnow.de
METHOD:PUBLISH
BEGIN:VTIMEZONE
TZID:Europe/Berlin
X-LIC-LOCATION:Europe/Berlin
BEGIN:DAYLIGHT
TZOFFSETFROM:+0100
TZOFFSETTO:+0200
TZNAME:CEST
DTSTART:19700329T020000
RRULE:FREQ=YEARLY;INTERVAL=1;BYDAY=-1SU;BYMONTH=3
END:DAYLIGHT
BEGIN:STANDARD
TZOFFSETFROM:+0200
TZOFFSETTO:+0100
TZNAME:CET
DTSTART:19701025T030000
RRULE:FREQ=YEARLY;INTERVAL=1;BYDAY=-1SU;BYMONTH=10
END:STANDARD
END:VTIMEZONE
BEGIN:VEVENT
UID:5cee46186ba946774db21fcdfe6f0202@gruene-kleinmachnow.de
URL;VALUE=URI:https://gruene-kleinmachnow.de/termine/gruene-angebote-der-
 volkshochschule-klm/
LOCATION:
SUMMARY:„Grüne“ Angebote der VHS Kleinmachnow
DESCRIPTION;ALTREP="data:text/html,%0A%3Cp%3E%3Cstrong%3EBenjeshecken-Bau
 %20f%C3%BCr%20den%20Bannwald%3C%2Fstrong%3E%2C%3Cbr%3E%3Cbr%3E%3Ca%20href
 %3D%22https%3A%2F%2Fwww.kvhs-pm.de%2Fkurs%2Fvhs-spezial%2Foutdoor-kurse%2
 Fworkshop-bau-einer-benjes-hecke%2FF26K10407%0A%22%3Ehttps%3A%2F%2Fwww.kv
 hs-pm.de%2Fkurs%2Fvhs-spezial%2Foutdoor-kurse%2Fworkshop-bau-einer-benjes
 -hecke%2FF26K10407%3Cbr%3E%3C%2Fa%3E%3Cbr%3E%3C%2Fp%3E%0A%0A%0A%0A%3Cp%3E
 %3Cstrong%3EKr%C3%A4uterwanderung%20f%C3%BCr%20Anf%C3%A4nger%2Ainnen%3C%2
 Fstrong%3E%2C%20%3Cbr%3E%3Cbr%3E%3Ca%20href%3D%22https%3A%2F%2Fwww.kvhs-p
 m.de%2Fkurs%2Fgesundheit%2Fessen-und-geniessen%2Fkraeuterwanderung-fuer-e
 insteiger-innen-komm-mit-ins-gruene%2FF26K10405%22%3Ehttps%3A%2F%2Fwww.kv
 hs-pm.de%2Fkurs%2Fgesundheit%2Fessen-und-geniessen%2Fkraeuterwanderung-fu
 er-einsteiger-innen-komm-mit-ins-gruene%2FF26K10405%3C%2Fa%3E%3C%2Fp%3E%0
 A":Benjeshecken-Bau für den Bannwald\,https://www.kvhs-pm.de/kurs/vhs-sp
 ezial/outdoor-kurse/workshop-bau-einer-benjes-hecke/F26K10407\n\nKräuter
 wanderung für Anfänger*innen\, https://www.kvhs-pm.de/kurs/gesundheit/e
 ssen-und-geniessen/kraeuterwanderung-fuer-einsteiger-innen-komm-mit-ins-g
 ruene/F26K10405
CLASS:PUBLIC
DTSTART;TZID=Europe/Berlin:20260418T000000
DTEND;TZID=Europe/Berlin:20260418T010000
DTSTAMP:20260420T092856
END:VEVENT
END:VCALENDAR